0.6
0.0
0.0
-0.6
-179.7
89.7
